BEGIN:VCALENDAR
VERSION:2.0
PRODID:-//The Breast Cancer Foundation - ECPv6.15.20//NONSGML v1.0//EN
CALSCALE:GREGORIAN
METHOD:PUBLISH
X-WR-CALNAME:The Breast Cancer Foundation
X-ORIGINAL-URL:https://breastcancerfoundation.ky
X-WR-CALDESC:Events for The Breast Cancer Foundation
REFRESH-INTERVAL;VALUE=DURATION:PT1H
X-Robots-Tag:noindex
X-PUBLISHED-TTL:PT1H
BEGIN:VTIMEZONE
TZID:America/Cayman
BEGIN:STANDARD
TZOFFSETFROM:-0500
TZOFFSETTO:-0500
TZNAME:EST
DTSTART:20250101T000000
END:STANDARD
END:VTIMEZONE
BEGIN:VEVENT
DTSTART;TZID=America/Cayman:20260516T180000
DTEND;TZID=America/Cayman:20260516T233000
DTSTAMP:20260423T101540
CREATED:20260401T195730Z
LAST-MODIFIED:20260408T190331Z
UID:244196-1778954400-1778974200@breastcancerfoundation.ky
SUMMARY:Beyond the Scar 2026
DESCRIPTION:Beyond the Scar is more than a fashion show\, it is a powerful celebration of resilience\, confidence\, and life beyond diagnosis. Returning in 2026 after a sold‑out and deeply moving inaugural event\, Beyond the Scar brings together fashion\, storytelling\, and community to spotlight breast cancer warriors who redefine beauty on their own terms. \nHosted by the Breast Cancer Foundation\, this unforgettable evening blends high fashion with authentic narratives\, creating a runway experience that is emotional\, empowering\, and inspiring \nThe Impact\nThe inaugural Beyond the Scar Fashion Show exceeded all expectations\, delivering a night filled with breathtaking fashion\, emotional storytelling\, and unity. Models — all breast cancer warriors — walked the runway with confidence\, proving they are so much more than their scars. \nBeyond the Scar is dedicated to redefining beauty by showcasing stories of resilience\, strength\, and survival through fashion. The event challenges traditional norms and encourages a broader conversation about self‑worth\, healing\, and empowerment. \nSponsorship Proposal \nNews & Updates\n\n					\n					\n					\n					\n					\n					\n						\n			\n\n				\n														\n													Christine Handy to Appear as VIP Guest at Second “Beyond the Scar” Fashion Show in the Cayman Islands\n											\n				\n					Apr 13\, 2026 The Cayman Islands Breast Cancer Foundation is proud to announce that internationally recognized author\, speaker\, and breast cancer survivor Christine Handy will attend the second annual Beyond the Scar fashion show as a VIP guest. \nread more			\n			\n				\n			\n\n				\n														\n													Beyond the Scar Fashion Show 2024: A Resounding Success\n											\n				\n					May 18\, 2024 The first Beyond the Scar fashion show\, held on Saturday 18th May at Hotel Indigo was an incredible success\, exceeding all expectations. \nread more			\n			\n				\n	\n	\n\n					\n					 \n				\n  \nTitle SponsorVisit Website \nSponsorsVisit Website Visit Website Visit Website Info & VideosVisit Website
URL:https://breastcancerfoundation.ky/event/beyond-the-scar-2026/
LOCATION:Hotel Indigo\, 32 Seafire Way\, Seven Mile Beach\, Grand Cayman\, KY1-1301\, Cayman Islands
CATEGORIES:Other Events
ATTACH;FMTTYPE=image/jpeg:https://breastcancerfoundation.ky/wp-content/uploads/2024/06/bcf-fashion-show-330.jpg
END:VEVENT
END:VCALENDAR